BEGIN:VCALENDAR
VERSION:2.0
PRODID:-//jbcorgard.com - ECPv6.15.14//NONSGML v1.0//EN
CALSCALE:GREGORIAN
METHOD:PUBLISH
X-WR-CALNAME:jbcorgard.com
X-ORIGINAL-URL:https://jbcorgard.com
X-WR-CALDESC:Events for jbcorgard.com
REFRESH-INTERVAL;VALUE=DURATION:PT1H
X-Robots-Tag:noindex
X-PUBLISHED-TTL:PT1H
BEGIN:VTIMEZONE
TZID:America/Chicago
BEGIN:DAYLIGHT
TZOFFSETFROM:-0600
TZOFFSETTO:-0500
TZNAME:CDT
DTSTART:20250309T080000
END:DAYLIGHT
BEGIN:STANDARD
TZOFFSETFROM:-0500
TZOFFSETTO:-0600
TZNAME:CST
DTSTART:20251102T070000
END:STANDARD
BEGIN:DAYLIGHT
TZOFFSETFROM:-0600
TZOFFSETTO:-0500
TZNAME:CDT
DTSTART:20260308T080000
END:DAYLIGHT
BEGIN:STANDARD
TZOFFSETFROM:-0500
TZOFFSETTO:-0600
TZNAME:CST
DTSTART:20261101T070000
END:STANDARD
BEGIN:DAYLIGHT
TZOFFSETFROM:-0600
TZOFFSETTO:-0500
TZNAME:CDT
DTSTART:20270314T080000
END:DAYLIGHT
BEGIN:STANDARD
TZOFFSETFROM:-0500
TZOFFSETTO:-0600
TZNAME:CST
DTSTART:20271107T070000
END:STANDARD
END:VTIMEZONE
BEGIN:VEVENT
DTSTART;TZID=America/Chicago:20260419T080000
DTEND;TZID=America/Chicago:20260419T110000
DTSTAMP:20260420T101110
CREATED:20260110T170036Z
LAST-MODIFIED:20260118T080858Z
UID:2208-1776585600-1776596400@jbcorgard.com
SUMMARY:Authors Among Us
DESCRIPTION:Come join me for a day of books books and more books. Come see me\, buy a signed copy of a great books i wrote. Come meet me!
URL:https://jbcorgard.com/event/authors-among-us/
LOCATION:Cedar Creek of De Pere Event Center\, 1018 Cedar ST.\, De Pere\, WI\, 54115\, United States
END:VEVENT
END:VCALENDAR