BEGIN:VCALENDAR
VERSION:2.0
PRODID:-//jbcorgard.com - ECPv6.15.14//NONSGML v1.0//EN
CALSCALE:GREGORIAN
METHOD:PUBLISH
X-ORIGINAL-URL:https://jbcorgard.com
X-WR-CALDESC:Events for jbcorgard.com
REFRESH-INTERVAL;VALUE=DURATION:PT1H
X-Robots-Tag:noindex
X-PUBLISHED-TTL:PT1H
BEGIN:VTIMEZONE
TZID:America/Chicago
BEGIN:DAYLIGHT
TZOFFSETFROM:-0600
TZOFFSETTO:-0500
TZNAME:CDT
DTSTART:20250309T080000
END:DAYLIGHT
BEGIN:STANDARD
TZOFFSETFROM:-0500
TZOFFSETTO:-0600
TZNAME:CST
DTSTART:20251102T070000
END:STANDARD
BEGIN:DAYLIGHT
TZOFFSETFROM:-0600
TZOFFSETTO:-0500
TZNAME:CDT
DTSTART:20260308T080000
END:DAYLIGHT
BEGIN:STANDARD
TZOFFSETFROM:-0500
TZOFFSETTO:-0600
TZNAME:CST
DTSTART:20261101T070000
END:STANDARD
BEGIN:DAYLIGHT
TZOFFSETFROM:-0600
TZOFFSETTO:-0500
TZNAME:CDT
DTSTART:20270314T080000
END:DAYLIGHT
BEGIN:STANDARD
TZOFFSETFROM:-0500
TZOFFSETTO:-0600
TZNAME:CST
DTSTART:20271107T070000
END:STANDARD
END:VTIMEZONE
BEGIN:VEVENT
DTSTART;VALUE=DATE:20260918
DTEND;VALUE=DATE:20260920
DTSTAMP:20260420T175130
CREATED:20260117T035501Z
LAST-MODIFIED:20260118T075333Z
UID:2205-1789689600-1789862399@jbcorgard.com
SUMMARY:Booked Eau Claire
DESCRIPTION:Come join me for a weekend of books books and more books. Come see me\, buy a signed copy of a great books i wrote. Come meet me!
URL:https://jbcorgard.com/event/booked-eau-claire/
LOCATION:DoubleTree by Hilton Hotel\, 333 Gibson ST\, Eau Claire\, WI\, 54701\, United States
END:VEVENT
END:VCALENDAR